BEGIN:VCALENDAR
VERSION:2.0
METHOD:PUBLISH
PRODID:-//Agenda.ad//NONSGML v1.0//EN
BEGIN:VEVENT
CLASS:PUBLIC
UID:23c83882d50d965bb33f36a4e96e1f11@agenda.ad
DTSTAMP:20260419T174941Z
DTSTART:20260320T230000Z
DTEND:20260320T230000Z
SUMMARY:<h1 class="documentFirstHeading">Concert: Gala i Ovidio - Cicle Cultural Encamp</h1>
<div id="viewlet-below-content-title">&nbsp;</div>
<div id="viewlet-above-content-body">&nbsp;</div>
<div id="content-core">&nbsp;</div>
DESCRIPTION:\n\nMés informació\nhttps://www.agenda.ad/activitat/encamp
 /musica/concert-gala-i-ovidio-cicle-cultural-encamp- - - 
 \n
LOCATION:Sala de festes del Complex Esportiu i Sociocultural d'Encamp
SEQUENCE:0
TRANSP:OPAQUE
X-ALT-DESC;FMTTYPE=text/html:<!DOCTYPE HTML PUBLIC "-//W3C//DTD HTML 3.2//EN"><HTML><HEAD
 ><TITLE></TITLE></HEAD><BODY><FONT FACE="Arial" SIZE=2><br/>
 <br/><b>Més informació</b><br/><a href="https://www.agenda
 .ad/activitat/encamp/musica/concert-gala-i-ovidio-cicle-cult
 ural-encamp- - - ">https://www.agenda.ad/activitat/encamp
 /musica/concert-gala-i-ovidio-cicle-cultural-encamp- - - 
 </a><br/></FONT></BODY></HTML>
END:VEVENT
END:VCALENDAR